BEGIN:VCALENDAR
VERSION:2.0
PRODID:-//Carton Studio - ECPv6.10.3//NONSGML v1.0//EN
CALSCALE:GREGORIAN
METHOD:PUBLISH
X-ORIGINAL-URL:https://www.bycartonstudio.com
X-WR-CALDESC:Events for Carton Studio
REFRESH-INTERVAL;VALUE=DURATION:PT1H
X-Robots-Tag:noindex
X-PUBLISHED-TTL:PT1H
BEGIN:VTIMEZONE
TZID:UTC
BEGIN:STANDARD
TZOFFSETFROM:+0000
TZOFFSETTO:+0000
TZNAME:UTC
DTSTART:20250101T000000
END:STANDARD
END:VTIMEZONE
BEGIN:VEVENT
DTSTART;TZID=UTC:20250502T103000
DTEND;TZID=UTC:20250502T120000
DTSTAMP:20260421T144758
CREATED:20250330T091040Z
LAST-MODIFIED:20250330T091040Z
UID:10001332-1746181800-1746187200@www.bycartonstudio.com
SUMMARY:מפגשי כתיבה
DESCRIPTION:[vc_row][vc_column][vc_column_text]לכתוב בלי לחשוב – מפגשי כתיבה.\n8 מפגשים. מתחילים ב 22.4 \nקבוצת ערב ימי שלישי 19:00-21:30\nקבוצת בוקר ימי שישי 9:30-12:00 \nלפרטים נוספים: \nשירן 052-7558884[/vc_column_text][/vc_column][/vc_row]
URL:https://www.bycartonstudio.com/event/%d7%9e%d7%a4%d7%92%d7%a9%d7%99-%d7%9b%d7%aa%d7%99%d7%91%d7%94/2025-05-02/
CATEGORIES:pink-gray-background
ATTACH;FMTTYPE=image/jpeg:https://www.bycartonstudio.com/wp-content/uploads/2025/03/486518170_1058006936363941_1657153389878450949_n.jpg
END:VEVENT
BEGIN:VEVENT
DTSTART;TZID=UTC:20250506T190000
DTEND;TZID=UTC:20250506T213000
DTSTAMP:20260421T144758
CREATED:20250330T090639Z
LAST-MODIFIED:20250330T090925Z
UID:10001317-1746558000-1746567000@www.bycartonstudio.com
SUMMARY:מפגשי כתיבה
DESCRIPTION:[vc_row][vc_column][vc_column_text]לכתוב בלי לחשוב – מפגשי כתיבה.\n8 מפגשים. מתחילים ב 22.4 \nקבוצת ערב ימי שלישי 19:00-21:30\nקבוצת בוקר ימי שישי 9:30-12:00 \nלפרטים נוספים: \nשירן 052-7558884[/vc_column_text][/vc_column][/vc_row]
URL:https://www.bycartonstudio.com/event/writing-sessions/2025-05-06/
CATEGORIES:pink-gray-background
ATTACH;FMTTYPE=image/jpeg:https://www.bycartonstudio.com/wp-content/uploads/2025/03/486518170_1058006936363941_1657153389878450949_n.jpg
END:VEVENT
BEGIN:VEVENT
DTSTART;TZID=UTC:20250509T103000
DTEND;TZID=UTC:20250509T120000
DTSTAMP:20260421T144758
CREATED:20250330T091040Z
LAST-MODIFIED:20250330T091040Z
UID:10001333-1746786600-1746792000@www.bycartonstudio.com
SUMMARY:מפגשי כתיבה
DESCRIPTION:[vc_row][vc_column][vc_column_text]לכתוב בלי לחשוב – מפגשי כתיבה.\n8 מפגשים. מתחילים ב 22.4 \nקבוצת ערב ימי שלישי 19:00-21:30\nקבוצת בוקר ימי שישי 9:30-12:00 \nלפרטים נוספים: \nשירן 052-7558884[/vc_column_text][/vc_column][/vc_row]
URL:https://www.bycartonstudio.com/event/%d7%9e%d7%a4%d7%92%d7%a9%d7%99-%d7%9b%d7%aa%d7%99%d7%91%d7%94/2025-05-09/
CATEGORIES:pink-gray-background
ATTACH;FMTTYPE=image/jpeg:https://www.bycartonstudio.com/wp-content/uploads/2025/03/486518170_1058006936363941_1657153389878450949_n.jpg
END:VEVENT
BEGIN:VEVENT
DTSTART;TZID=UTC:20250513T190000
DTEND;TZID=UTC:20250513T213000
DTSTAMP:20260421T144758
CREATED:20250330T090639Z
LAST-MODIFIED:20250330T090925Z
UID:10001318-1747162800-1747171800@www.bycartonstudio.com
SUMMARY:מפגשי כתיבה
DESCRIPTION:[vc_row][vc_column][vc_column_text]לכתוב בלי לחשוב – מפגשי כתיבה.\n8 מפגשים. מתחילים ב 22.4 \nקבוצת ערב ימי שלישי 19:00-21:30\nקבוצת בוקר ימי שישי 9:30-12:00 \nלפרטים נוספים: \nשירן 052-7558884[/vc_column_text][/vc_column][/vc_row]
URL:https://www.bycartonstudio.com/event/writing-sessions/2025-05-13/
CATEGORIES:pink-gray-background
ATTACH;FMTTYPE=image/jpeg:https://www.bycartonstudio.com/wp-content/uploads/2025/03/486518170_1058006936363941_1657153389878450949_n.jpg
END:VEVENT
BEGIN:VEVENT
DTSTART;TZID=UTC:20250516T103000
DTEND;TZID=UTC:20250516T120000
DTSTAMP:20260421T144758
CREATED:20250330T091040Z
LAST-MODIFIED:20250330T091040Z
UID:10001334-1747391400-1747396800@www.bycartonstudio.com
SUMMARY:מפגשי כתיבה
DESCRIPTION:[vc_row][vc_column][vc_column_text]לכתוב בלי לחשוב – מפגשי כתיבה.\n8 מפגשים. מתחילים ב 22.4 \nקבוצת ערב ימי שלישי 19:00-21:30\nקבוצת בוקר ימי שישי 9:30-12:00 \nלפרטים נוספים: \nשירן 052-7558884[/vc_column_text][/vc_column][/vc_row]
URL:https://www.bycartonstudio.com/event/%d7%9e%d7%a4%d7%92%d7%a9%d7%99-%d7%9b%d7%aa%d7%99%d7%91%d7%94/2025-05-16/
CATEGORIES:pink-gray-background
ATTACH;FMTTYPE=image/jpeg:https://www.bycartonstudio.com/wp-content/uploads/2025/03/486518170_1058006936363941_1657153389878450949_n.jpg
END:VEVENT
BEGIN:VEVENT
DTSTART;TZID=UTC:20250520T190000
DTEND;TZID=UTC:20250520T213000
DTSTAMP:20260421T144758
CREATED:20250330T090639Z
LAST-MODIFIED:20250330T090925Z
UID:10001319-1747767600-1747776600@www.bycartonstudio.com
SUMMARY:מפגשי כתיבה
DESCRIPTION:[vc_row][vc_column][vc_column_text]לכתוב בלי לחשוב – מפגשי כתיבה.\n8 מפגשים. מתחילים ב 22.4 \nקבוצת ערב ימי שלישי 19:00-21:30\nקבוצת בוקר ימי שישי 9:30-12:00 \nלפרטים נוספים: \nשירן 052-7558884[/vc_column_text][/vc_column][/vc_row]
URL:https://www.bycartonstudio.com/event/writing-sessions/2025-05-20/
CATEGORIES:pink-gray-background
ATTACH;FMTTYPE=image/jpeg:https://www.bycartonstudio.com/wp-content/uploads/2025/03/486518170_1058006936363941_1657153389878450949_n.jpg
END:VEVENT
BEGIN:VEVENT
DTSTART;TZID=UTC:20250523T103000
DTEND;TZID=UTC:20250523T120000
DTSTAMP:20260421T144758
CREATED:20250330T091040Z
LAST-MODIFIED:20250330T091040Z
UID:10001335-1747996200-1748001600@www.bycartonstudio.com
SUMMARY:מפגשי כתיבה
DESCRIPTION:[vc_row][vc_column][vc_column_text]לכתוב בלי לחשוב – מפגשי כתיבה.\n8 מפגשים. מתחילים ב 22.4 \nקבוצת ערב ימי שלישי 19:00-21:30\nקבוצת בוקר ימי שישי 9:30-12:00 \nלפרטים נוספים: \nשירן 052-7558884[/vc_column_text][/vc_column][/vc_row]
URL:https://www.bycartonstudio.com/event/%d7%9e%d7%a4%d7%92%d7%a9%d7%99-%d7%9b%d7%aa%d7%99%d7%91%d7%94/2025-05-23/
CATEGORIES:pink-gray-background
ATTACH;FMTTYPE=image/jpeg:https://www.bycartonstudio.com/wp-content/uploads/2025/03/486518170_1058006936363941_1657153389878450949_n.jpg
END:VEVENT
BEGIN:VEVENT
DTSTART;TZID=UTC:20250527T190000
DTEND;TZID=UTC:20250527T213000
DTSTAMP:20260421T144758
CREATED:20250330T090639Z
LAST-MODIFIED:20250330T090925Z
UID:10001320-1748372400-1748381400@www.bycartonstudio.com
SUMMARY:מפגשי כתיבה
DESCRIPTION:[vc_row][vc_column][vc_column_text]לכתוב בלי לחשוב – מפגשי כתיבה.\n8 מפגשים. מתחילים ב 22.4 \nקבוצת ערב ימי שלישי 19:00-21:30\nקבוצת בוקר ימי שישי 9:30-12:00 \nלפרטים נוספים: \nשירן 052-7558884[/vc_column_text][/vc_column][/vc_row]
URL:https://www.bycartonstudio.com/event/writing-sessions/2025-05-27/
CATEGORIES:pink-gray-background
ATTACH;FMTTYPE=image/jpeg:https://www.bycartonstudio.com/wp-content/uploads/2025/03/486518170_1058006936363941_1657153389878450949_n.jpg
END:VEVENT
BEGIN:VEVENT
DTSTART;TZID=UTC:20250530T103000
DTEND;TZID=UTC:20250530T120000
DTSTAMP:20260421T144758
CREATED:20250330T091040Z
LAST-MODIFIED:20250330T091040Z
UID:10001336-1748601000-1748606400@www.bycartonstudio.com
SUMMARY:מפגשי כתיבה
DESCRIPTION:[vc_row][vc_column][vc_column_text]לכתוב בלי לחשוב – מפגשי כתיבה.\n8 מפגשים. מתחילים ב 22.4 \nקבוצת ערב ימי שלישי 19:00-21:30\nקבוצת בוקר ימי שישי 9:30-12:00 \nלפרטים נוספים: \nשירן 052-7558884[/vc_column_text][/vc_column][/vc_row]
URL:https://www.bycartonstudio.com/event/%d7%9e%d7%a4%d7%92%d7%a9%d7%99-%d7%9b%d7%aa%d7%99%d7%91%d7%94/2025-05-30/
CATEGORIES:pink-gray-background
ATTACH;FMTTYPE=image/jpeg:https://www.bycartonstudio.com/wp-content/uploads/2025/03/486518170_1058006936363941_1657153389878450949_n.jpg
END:VEVENT
END:VCALENDAR